BEGIN:VCALENDAR
VERSION:2.0
PRODID:-//Rural Maryland Council - ECPv6.15.20//NONSGML v1.0//EN
CALSCALE:GREGORIAN
METHOD:PUBLISH
X-ORIGINAL-URL:https://rural.maryland.gov
X-WR-CALDESC:Events for Rural Maryland Council
REFRESH-INTERVAL;VALUE=DURATION:PT1H
X-Robots-Tag:noindex
X-PUBLISHED-TTL:PT1H
BEGIN:VTIMEZONE
TZID:America/New_York
BEGIN:DAYLIGHT
TZOFFSETFROM:-0500
TZOFFSETTO:-0400
TZNAME:EDT
DTSTART:20240310T070000
END:DAYLIGHT
BEGIN:STANDARD
TZOFFSETFROM:-0400
TZOFFSETTO:-0500
TZNAME:EST
DTSTART:20241103T060000
END:STANDARD
BEGIN:DAYLIGHT
TZOFFSETFROM:-0500
TZOFFSETTO:-0400
TZNAME:EDT
DTSTART:20250309T070000
END:DAYLIGHT
BEGIN:STANDARD
TZOFFSETFROM:-0400
TZOFFSETTO:-0500
TZNAME:EST
DTSTART:20251102T060000
END:STANDARD
BEGIN:DAYLIGHT
TZOFFSETFROM:-0500
TZOFFSETTO:-0400
TZNAME:EDT
DTSTART:20260308T070000
END:DAYLIGHT
BEGIN:STANDARD
TZOFFSETFROM:-0400
TZOFFSETTO:-0500
TZNAME:EST
DTSTART:20261101T060000
END:STANDARD
END:VTIMEZONE
BEGIN:VEVENT
DTSTART;TZID=America/New_York:20250909T130000
DTEND;TZID=America/New_York:20250909T140000
DTSTAMP:20260423T004833
CREATED:20250916T151004Z
LAST-MODIFIED:20250916T151004Z
UID:18216-1757422800-1757426400@rural.maryland.gov
SUMMARY:Rural Summit Planning Committee Meeting
DESCRIPTION:The meeting will be held via Zoom teleconference. \nIf you’re interested in attending\, please contact the RMC at (410) 841-5772 or rmc.mda@maryland.gov.
URL:https://rural.maryland.gov/event/rural-summit-planning-committee-meeting-4/
END:VEVENT
BEGIN:VEVENT
DTSTART;TZID=America/New_York:20250912T120000
DTEND;TZID=America/New_York:20250912T140000
DTSTAMP:20260423T004833
CREATED:20250814T133451Z
LAST-MODIFIED:20250814T133451Z
UID:18128-1757678400-1757685600@rural.maryland.gov
SUMMARY:RMC Executive Committee Meeting
DESCRIPTION:The meeting will be held via Zoom teleconference.
URL:https://rural.maryland.gov/event/rmc-executive-committee-meeting-3/
END:VEVENT
BEGIN:VEVENT
DTSTART;TZID=America/New_York:20250916T130000
DTEND;TZID=America/New_York:20250916T140000
DTSTAMP:20260423T004833
CREATED:20250916T151040Z
LAST-MODIFIED:20250916T151040Z
UID:18218-1758027600-1758031200@rural.maryland.gov
SUMMARY:Rural Summit Planning Committee Meeting
DESCRIPTION:The meeting will be held via Zoom teleconference. \nIf you’re interested in attending\, please contact the RMC at (410) 841-5772 or rmc.mda@maryland.gov.
URL:https://rural.maryland.gov/event/rural-summit-planning-committee-meeting-5/
END:VEVENT
BEGIN:VEVENT
DTSTART;TZID=America/New_York:20250919T120000
DTEND;TZID=America/New_York:20250919T140000
DTSTAMP:20260423T004833
CREATED:20250814T133905Z
LAST-MODIFIED:20250902T182621Z
UID:18131-1758283200-1758290400@rural.maryland.gov
SUMMARY:RMC Fall Executive Board Meeting
DESCRIPTION:The RMC will hold our Fall Executive Board Meeting on Friday\, September 19\, 2025\, from 12:00-2:00 pm\, at Frederick Innovative Technology Center\, Inc. (FITCI).  \nThere is no free to attend\, and lunch will be provided. Please click here to register. \nWe hope to see you there!
URL:https://rural.maryland.gov/event/rmc-fall-executive-board-meeting/
LOCATION:Frederick Innovative Technology Center\, Inc. (FITCI)\, 321 Ballenger Center Dr\, Frederick\, MD\, 21703\, United States
END:VEVENT
BEGIN:VEVENT
DTSTART;TZID=America/New_York:20250924T113000
DTEND;TZID=America/New_York:20250924T150000
DTSTAMP:20260423T004833
CREATED:20250916T150723Z
LAST-MODIFIED:20250916T150723Z
UID:18213-1758713400-1758726000@rural.maryland.gov
SUMMARY:J. Millard Tawes Crab & Clambake
DESCRIPTION:The Rural Maryland Council proudly sponsors the J. Millard Tawes Crab and Clam Bake\, hosting a private tent and food for registered guests. Held annually in Crisfield\, the “Crab Capital of the World\,” Tawes is a signature Maryland tradition featuring all-you-can-eat crabs\, clams\, and other Eastern Shore favorites. The event draws thousands – including elected officials\, business leaders\, and community members – for a festive day of food\, networking\, and celebration of Crisfield’s seafood heritage.
URL:https://rural.maryland.gov/event/j-millard-tawes-crab-clambake/
LOCATION:Somers Cove Marina\, Crisfield\, 21817\, United States
END:VEVENT
END:VCALENDAR